BEGIN:VCALENDAR
VERSION:2.0
PRODID:-//Ecclesiact 5.8.10//EN
CALSCALE:GREGORIAN
METHOD:PUBLISH
X-WR-TIMEZONE:America/Toronto
BEGIN:VEVENT
UID:1026618043
TRANSP:OPAQUE
STATUS:CONFIRMED
SEQUENCE:0
CLASS:PUBLIC
DTSTART:20130626T180000Z
DTEND:20130626T190000Z
DTSTAMP:20130731T132157Z
SUMMARY:James Street Service
DESCRIPTION:Service at James Street Place retirement home, 148 James Street, Bracebridge.  Every second and fourth wednesday each month  https://www.churchesinyourtown.ca/communities/bracebridge/st-thomas-anglican-church/2013/06/26/james-street-service
END:VEVENT
END:VCALENDAR
