BEGIN:VCALENDAR
VERSION:2.0
PRODID:-//Ecclesiact 5.8.10//EN
CALSCALE:GREGORIAN
METHOD:PUBLISH
X-WR-TIMEZONE:America/Toronto
BEGIN:VEVENT
UID:518030775
TRANSP:OPAQUE
STATUS:CONFIRMED
SEQUENCE:0
CLASS:PUBLIC
DTSTART:20100402T220000Z
DTEND:20100402T230000Z
DTSTAMP:20161211T125733Z
SUMMARY:Good Friday Service
DESCRIPTION:Join us for our evening Good Friday Service  Friday April 2nd at 6:00pm  Do you ever wonder about your purpose on earth?  Have you ever longed to connect with God?  Maybe this is your opportunity to uncover life & discover meaning.  Your life counts - you matter.    https://www.churchesinyourtown.ca/communities/richmond-hill/summit-community-church/2010/04/02/good-friday-service
LOCATION:Summit Community Church  Richmond Green Secondary School  1 William F.bell Pkwy  Richmond Hill  ON L4S 2T9 Canada
END:VEVENT
END:VCALENDAR
