BEGIN:VCALENDAR
VERSION:2.0
PRODID:-//Ecclesiact 5.8.10//EN
CALSCALE:GREGORIAN
METHOD:PUBLISH
X-WR-TIMEZONE:America/Toronto
BEGIN:VEVENT
UID:632535969
TRANSP:OPAQUE
STATUS:CONFIRMED
SEQUENCE:0
CLASS:PUBLIC
DTSTART:20191224T220000Z
DTEND:20191225T045900Z
DTSTAMP:20191122T115517Z
SUMMARY:Christmas Eve Service (5pm)
DESCRIPTION:  https://www.churchesinyourtown.ca/communities/lindsay/st-marys/2019/12/24/christmas-eve-service-5pm
LOCATION:St. Mary's Roman Catholic Church  31 Russell Street East  Lindsay  City of Kawartha Lakes  ON K9V 2A4 Canada
END:VEVENT
END:VCALENDAR
